BEGIN:VCALENDAR
VERSION:2.0
PRODID:-//MoreDirt v1.0//EN
BEGIN:VEVENT
DTSTAMP:20150730T130000Z
ORGANIZER;CN=Northern Downhill:MAILTO:
STATUS:CONFIRMED
UID:MORESPORTSNETWORK1386
DTSTART:20160228T080000+0000
DTEND:20160228T120000+0000
SUMMARY:Ae Forest Trail Bike TT
DESCRIPTION:Ae Forest Trail Bike TT - more details: https://www.moredirt.com/event/1386
X-ALT-DESC;FMTTYPE=text/html:Ae Forest Trail Bike TT - more details: https://www.moredirt.com/event/1386
LOCATION:
END:VEVENT
END:VCALENDAR