BEGIN:VCALENDAR
VERSION:2.0
PRODID:-//MoreDirt v1.0//EN
BEGIN:VEVENT
DTSTAMP:20150730T130000Z
ORGANIZER;CN=Northern Downhill:MAILTO:
STATUS:CONFIRMED
UID:MORESPORTSNETWORK1385
DTSTART:20161106T080000+0000
DTEND:20161106T120000+0000
SUMMARY:Kidland ND(H)uro
DESCRIPTION:Kidland ND(H)uro - more details: https://www.moredirt.com/event/1385
X-ALT-DESC;FMTTYPE=text/html:Kidland ND(H)uro - more details: https://www.moredirt.com/event/1385
LOCATION:
END:VEVENT
END:VCALENDAR