BEGIN:VCALENDAR
VERSION:2.0
PRODID:-//MoreDirt v1.0//EN
BEGIN:VEVENT
DTSTAMP:20150730T130000Z
ORGANIZER;CN=Northern Downhill:MAILTO:
STATUS:CONFIRMED
UID:MORESPORTSNETWORK1384
DTSTART:20160313T080000+0000
DTEND:20160313T120000+0000
SUMMARY:Kielder ND(H)uro
DESCRIPTION:Kielder ND(H)uro - more details: https://www.moredirt.com/event/1384
X-ALT-DESC;FMTTYPE=text/html:Kielder ND(H)uro - more details: https://www.moredirt.com/event/1384
LOCATION:
END:VEVENT
END:VCALENDAR