BEGIN:VCALENDAR
VERSION:2.0
PRODID:-//MoreDirt v1.0//EN
BEGIN:VEVENT
DTSTAMP:20150730T130000Z
ORGANIZER;CN=Northern Downhill:MAILTO:
STATUS:CONFIRMED
UID:MORESPORTSNETWORK1383
DTSTART:20160214T080000+0000
DTEND:20160214T120000+0000
SUMMARY:Hamsterley ND(H)uro
DESCRIPTION:Hamsterley ND(H)uro - more details: https://www.moredirt.com/event/1383
X-ALT-DESC;FMTTYPE=text/html:Hamsterley ND(H)uro - more details: https://www.moredirt.com/event/1383
LOCATION:
END:VEVENT
END:VCALENDAR