BEGIN:VCALENDAR
VERSION:2.0
PRODID:-//MoreDirt v1.0//EN
BEGIN:VEVENT
DTSTAMP:20150730T130000Z
ORGANIZER;CN=Borderline Events:MAILTO:
STATUS:CONFIRMED
UID:MORESPORTSNETWORK1382
DTSTART:20160716T080000Z
DTEND:20160717T120000Z
SUMMARY:British Cycling Downhill National Champs 2016
DESCRIPTION:British Cycling Downhill National Champs 2016 - more details: https://www.moredirt.com/event/1382
X-ALT-DESC;FMTTYPE=text/html:British Cycling Downhill National Champs 2016 - more details: https://www.moredirt.com/event/1382
LOCATION:
END:VEVENT
END:VCALENDAR