BEGIN:VCALENDAR
VERSION:2.0
PRODID:-//MoreDirt v1.0//EN
BEGIN:VEVENT
DTSTAMP:20150730T130000Z
ORGANIZER;CN=Scottish Cross Country Association:MAILTO:
STATUS:CONFIRMED
UID:MORESPORTSNETWORK1381
DTSTART:20160716T080000Z
DTEND:20160717T120000Z
SUMMARY:2016 British XC Championships
DESCRIPTION:2016 British XC Championships - more details: https://www.moredirt.com/event/1381
X-ALT-DESC;FMTTYPE=text/html:2016 British XC Championships - more details: https://www.moredirt.com/event/1381
LOCATION:
END:VEVENT
END:VCALENDAR