BEGIN:VCALENDAR
VERSION:2.0
PRODID:-//MoreDirt v1.0//EN
BEGIN:VEVENT
DTSTAMP:20150730T130000Z
ORGANIZER;CN=Scottish Cross Country Association:MAILTO:
STATUS:CONFIRMED
UID:MORESPORTSNETWORK1380
DTSTART:20160918T080000Z
DTEND:20160918T120000Z
SUMMARY:SXC Round 6 - Forfar
DESCRIPTION:SXC Round 6 - Forfar - more details: https://www.moredirt.com/event/1380
X-ALT-DESC;FMTTYPE=text/html:SXC Round 6 - Forfar - more details: https://www.moredirt.com/event/1380
LOCATION:
END:VEVENT
END:VCALENDAR