BEGIN:VCALENDAR
VERSION:2.0
PRODID:-//MoreDirt v1.0//EN
BEGIN:VEVENT
DTSTAMP:20150730T130000Z
ORGANIZER;CN=Scottish Cross Country Association:MAILTO:
STATUS:CONFIRMED
UID:MORESPORTSNETWORK1378
DTSTART:20160703T080000Z
DTEND:20160703T120000Z
SUMMARY:SXC Round 4 - Dalbeattie
DESCRIPTION:SXC Round 4 - Dalbeattie - more details: https://www.moredirt.com/event/1378
X-ALT-DESC;FMTTYPE=text/html:SXC Round 4 - Dalbeattie - more details: https://www.moredirt.com/event/1378
LOCATION:
END:VEVENT
END:VCALENDAR