BEGIN:VCALENDAR
VERSION:2.0
PRODID:-//MoreDirt v1.0//EN
BEGIN:VEVENT
DTSTAMP:20150730T130000Z
ORGANIZER;CN=Scottish Enduro Series:MAILTO:
STATUS:CONFIRMED
UID:MORESPORTSNETWORK1377
DTSTART:20160522T080000Z
DTEND:20160522T120000Z
SUMMARY:SXC Round 3 - Cathkin Braes
DESCRIPTION:SXC Round 3 - Cathkin Braes - more details: https://www.moredirt.com/event/1377
X-ALT-DESC;FMTTYPE=text/html:SXC Round 3 - Cathkin Braes - more details: https://www.moredirt.com/event/1377
LOCATION:
END:VEVENT
END:VCALENDAR