BEGIN:VCALENDAR
VERSION:2.0
PRODID:-//MoreDirt v1.0//EN
BEGIN:VEVENT
DTSTAMP:20150730T130000Z
ORGANIZER;CN=SPAM Biking:MAILTO:
STATUS:CONFIRMED
UID:MORESPORTSNETWORK1374
DTSTART:20160103T080000+0000
DTEND:20160103T120000+0000
SUMMARY:The SPAM Winter Challenge 2015
DESCRIPTION:The SPAM Winter Challenge 2015 - more details: https://www.moredirt.com/event/1374
X-ALT-DESC;FMTTYPE=text/html:The SPAM Winter Challenge 2015 - more details: https://www.moredirt.com/event/1374
LOCATION:
END:VEVENT
END:VCALENDAR