BEGIN:VCALENDAR
VERSION:2.0
PRODID:-//MoreDirt v1.0//EN
BEGIN:VEVENT
DTSTAMP:20150730T130000Z
ORGANIZER;CN=Offcamber:MAILTO:
STATUS:CONFIRMED
UID:MORESPORTSNETWORK1373
DTSTART:20160320T080000+0000
DTEND:20160320T120000+0000
SUMMARY:Offcamber Winter Series 2016 - Round 7
DESCRIPTION:Offcamber Winter Series 2016 - Round 7 - more details: https://www.moredirt.com/event/1373
X-ALT-DESC;FMTTYPE=text/html:Offcamber Winter Series 2016 - Round 7 - more details: https://www.moredirt.com/event/1373
LOCATION:
END:VEVENT
END:VCALENDAR