BEGIN:VCALENDAR
VERSION:2.0
PRODID:-//MoreDirt v1.0//EN
BEGIN:VEVENT
DTSTAMP:20150730T130000Z
ORGANIZER;CN=Offcamber:MAILTO:
STATUS:CONFIRMED
UID:MORESPORTSNETWORK1372
DTSTART:20160228T080000+0000
DTEND:20160228T120000+0000
SUMMARY:Offcamber Winter Series 2016 - Round 6
DESCRIPTION:Offcamber Winter Series 2016 - Round 6 - more details: https://www.moredirt.com/event/1372
X-ALT-DESC;FMTTYPE=text/html:Offcamber Winter Series 2016 - Round 6 - more details: https://www.moredirt.com/event/1372
LOCATION:
END:VEVENT
END:VCALENDAR