BEGIN:VCALENDAR
VERSION:2.0
PRODID:-//MoreDirt v1.0//EN
BEGIN:VEVENT
DTSTAMP:20150730T130000Z
ORGANIZER;CN=Northern downhill:MAILTO:
STATUS:CONFIRMED
UID:MORESPORTSNETWORK1358
DTSTART:20160117T080000+0000
DTEND:20160117T120000+0000
SUMMARY:Cyclefix Funduro
DESCRIPTION:Cyclefix Funduro - more details: https://www.moredirt.com/event/1358
X-ALT-DESC;FMTTYPE=text/html:Cyclefix Funduro - more details: https://www.moredirt.com/event/1358
LOCATION:
END:VEVENT
END:VCALENDAR