BEGIN:VCALENDAR
VERSION:2.0
PRODID:-//MoreDirt v1.0//EN
BEGIN:VEVENT
DTSTAMP:20150730T130000Z
ORGANIZER;CN=PMBA Enduro Series:MAILTO:
STATUS:CONFIRMED
UID:MORESPORTSNETWORK1354
DTSTART:20160109T080000+0000
DTEND:20160109T120000+0000
SUMMARY:PMBA Day/Night Enduro - Grizedale
DESCRIPTION:PMBA Day/Night Enduro - Grizedale - more details: https://www.moredirt.com/event/1354
X-ALT-DESC;FMTTYPE=text/html:PMBA Day/Night Enduro - Grizedale - more details: https://www.moredirt.com/event/1354
LOCATION:
END:VEVENT
END:VCALENDAR