BEGIN:VCALENDAR
VERSION:2.0
PRODID:-//MoreDirt v1.0//EN
BEGIN:VEVENT
DTSTAMP:20150730T130000Z
ORGANIZER;CN=Borderline Events:MAILTO:
STATUS:CONFIRMED
UID:MORESPORTSNETWORK1345
DTSTART:20160409T080000Z
DTEND:20160410T120000Z
SUMMARY:Borderline DH Series 2016 - Round 1
DESCRIPTION:Borderline DH Series 2016 - Round 1 - more details: https://www.moredirt.com/event/1345
X-ALT-DESC;FMTTYPE=text/html:Borderline DH Series 2016 - Round 1 - more details: https://www.moredirt.com/event/1345
LOCATION:
END:VEVENT
END:VCALENDAR