BEGIN:VCALENDAR
VERSION:2.0
PRODID:-//MoreDirt v1.0//EN
BEGIN:VEVENT
DTSTAMP:20150730T130000Z
ORGANIZER;CN=Borderline Events:MAILTO:
STATUS:CONFIRMED
UID:MORESPORTSNETWORK1344
DTSTART:20161030T080000+0000
DTEND:20161030T120000+0000
SUMMARY:Static DH Series Round 4
DESCRIPTION:Static DH Series Round 4 - more details: https://www.moredirt.com/event/1344
X-ALT-DESC;FMTTYPE=text/html:Static DH Series Round 4 - more details: https://www.moredirt.com/event/1344
LOCATION:
END:VEVENT
END:VCALENDAR