BEGIN:VCALENDAR
VERSION:2.0
PRODID:-//MoreDirt v1.0//EN
BEGIN:VEVENT
DTSTAMP:20150730T130000Z
ORGANIZER;CN=Borderline Events:MAILTO:
STATUS:CONFIRMED
UID:MORESPORTSNETWORK1341
DTSTART:20160306T080000+0000
DTEND:20160306T120000+0000
SUMMARY:Static DH Series Round 1
DESCRIPTION:Static DH Series Round 1 - more details: https://www.moredirt.com/event/1341
X-ALT-DESC;FMTTYPE=text/html:Static DH Series Round 1 - more details: https://www.moredirt.com/event/1341
LOCATION:
END:VEVENT
END:VCALENDAR