BEGIN:VCALENDAR
VERSION:2.0
PRODID:-//MoreDirt v1.0//EN
BEGIN:VEVENT
DTSTAMP:20150730T130000Z
ORGANIZER;CN=Hales Superbole Mountain Boarding Centre:MAILTO:
STATUS:CONFIRMED
UID:MORESPORTSNETWORK1333
DTSTART:20151129T080000+0000
DTEND:20151129T120000+0000
SUMMARY:Hale's Winter 4x Series 2016 - RD1
DESCRIPTION:Hale's Winter 4x Series 2016 - RD1 - more details: https://www.moredirt.com/event/1333
X-ALT-DESC;FMTTYPE=text/html:Hale's Winter 4x Series 2016 - RD1 - more details: https://www.moredirt.com/event/1333
LOCATION:
END:VEVENT
END:VCALENDAR