BEGIN:VCALENDAR
VERSION:2.0
PRODID:-//MoreDirt v1.0//EN
BEGIN:VEVENT
DTSTAMP:20150730T130000Z
ORGANIZER;CN=Tidworth Freeride:MAILTO:
STATUS:CONFIRMED
UID:MORESPORTSNETWORK1306
DTSTART:20151115T080000+0000
DTEND:20151115T120000+0000
SUMMARY:Hooper Hooner 2015
DESCRIPTION:Hooper Hooner 2015 - more details: https://www.moredirt.com/event/1306
X-ALT-DESC;FMTTYPE=text/html:Hooper Hooner 2015 - more details: https://www.moredirt.com/event/1306
LOCATION:
END:VEVENT
END:VCALENDAR