BEGIN:VCALENDAR
VERSION:2.0
PRODID:-//MoreDirt v1.0//EN
BEGIN:VEVENT
DTSTAMP:20150730T130000Z
ORGANIZER;CN=Downhill Freeriders:MAILTO:
STATUS:CONFIRMED
UID:MORESPORTSNETWORK1305
DTSTART:20151024T080000Z
DTEND:20151024T120000Z
SUMMARY:Downhill Freeriders - Charity Race - Fight For Sight
DESCRIPTION:Downhill Freeriders - Charity Race - Fight For Sight - more details: https://www.moredirt.com/event/1305
X-ALT-DESC;FMTTYPE=text/html:Downhill Freeriders - Charity Race - Fight For Sight - more details: https://www.moredirt.com/event/1305
LOCATION:
END:VEVENT
END:VCALENDAR