BEGIN:VCALENDAR
VERSION:2.0
PRODID:-//MoreDirt v1.0//EN
BEGIN:VEVENT
DTSTAMP:20150730T130000Z
ORGANIZER;CN=South West Gravity Enduro:MAILTO:
STATUS:CONFIRMED
UID:MORESPORTSNETWORK1292
DTSTART:20160605T080000Z
DTEND:20160605T120000Z
SUMMARY:South West Gravity Enduro RD2
DESCRIPTION:South West Gravity Enduro RD2 - more details: https://www.moredirt.com/event/1292
X-ALT-DESC;FMTTYPE=text/html:South West Gravity Enduro RD2 - more details: https://www.moredirt.com/event/1292
LOCATION:
END:VEVENT
END:VCALENDAR