BEGIN:VCALENDAR
VERSION:2.0
PRODID:-//MoreDirt v1.0//EN
BEGIN:VEVENT
DTSTAMP:20150730T130000Z
ORGANIZER;CN=South West Gravity Enduro:MAILTO:
STATUS:CONFIRMED
UID:MORESPORTSNETWORK1291
DTSTART:20160410T080000Z
DTEND:20160410T120000Z
SUMMARY:South West Gravity Enduro RD1
DESCRIPTION:South West Gravity Enduro RD1 - more details: https://www.moredirt.com/event/1291
X-ALT-DESC;FMTTYPE=text/html:South West Gravity Enduro RD1 - more details: https://www.moredirt.com/event/1291
LOCATION:
END:VEVENT
END:VCALENDAR