BEGIN:VCALENDAR
VERSION:2.0
PRODID:-//MoreDirt v1.0//EN
BEGIN:VEVENT
DTSTAMP:20150730T130000Z
ORGANIZER;CN=Welsh Enduro Series:MAILTO:
STATUS:CONFIRMED
UID:MORESPORTSNETWORK1281
DTSTART:20151122T080000+0000
DTEND:20151122T120000+0000
SUMMARY:Welsh Enduro Series - RD4 - Dyfi Forest
DESCRIPTION:Welsh Enduro Series - RD4 - Dyfi Forest - more details: https://www.moredirt.com/event/1281
X-ALT-DESC;FMTTYPE=text/html:Welsh Enduro Series - RD4 - Dyfi Forest - more details: https://www.moredirt.com/event/1281
LOCATION:
END:VEVENT
END:VCALENDAR