BEGIN:VCALENDAR
VERSION:2.0
PRODID:-//MoreDirt v1.0//EN
BEGIN:VEVENT
DTSTAMP:20150730T130000Z
ORGANIZER;CN=Rutland Cycling Ltd:MAILTO:
STATUS:CONFIRMED
UID:MORESPORTSNETWORK1276
DTSTART:20151115T080000+0000
DTEND:20151115T120000+0000
SUMMARY:Rutland Cycling MTB Demo Day
DESCRIPTION:Rutland Cycling MTB Demo Day - more details: https://www.moredirt.com/event/1276
X-ALT-DESC;FMTTYPE=text/html:Rutland Cycling MTB Demo Day - more details: https://www.moredirt.com/event/1276
LOCATION:
END:VEVENT
END:VCALENDAR