BEGIN:VCALENDAR
VERSION:2.0
PRODID:-//MoreDirt v1.0//EN
BEGIN:VEVENT
DTSTAMP:20150730T130000Z
ORGANIZER;CN=Rogate Downhill:MAILTO:
STATUS:CONFIRMED
UID:MORESPORTSNETWORK1275
DTSTART:20151011T080000Z
DTEND:20151011T120000Z
SUMMARY:Rogate Downhill Race 2015
DESCRIPTION:Rogate Downhill Race 2015 - more details: https://www.moredirt.com/event/1275
X-ALT-DESC;FMTTYPE=text/html:Rogate Downhill Race 2015 - more details: https://www.moredirt.com/event/1275
LOCATION:
END:VEVENT
END:VCALENDAR