BEGIN:VCALENDAR
VERSION:2.0
PRODID:-//MoreDirt v1.0//EN
BEGIN:VEVENT
DTSTAMP:20150730T130000Z
ORGANIZER;CN=Gorrick - Mountain Biking Events:MAILTO:
STATUS:CONFIRMED
UID:MORESPORTSNETWORK1254
DTSTART:20151101T080000+0000
DTEND:20151101T120000+0000
SUMMARY:Gorrick XC Autumn Classic 2
DESCRIPTION:Gorrick XC Autumn Classic 2 - more details: https://www.moredirt.com/event/1254
X-ALT-DESC;FMTTYPE=text/html:Gorrick XC Autumn Classic 2 - more details: https://www.moredirt.com/event/1254
LOCATION:
END:VEVENT
END:VCALENDAR