BEGIN:VCALENDAR
VERSION:2.0
PRODID:-//MoreDirt v1.0//EN
BEGIN:VEVENT
DTSTAMP:20150730T130000Z
ORGANIZER;CN=No Fuss Events:MAILTO:
STATUS:CONFIRMED
UID:MORESPORTSNETWORK124
DTSTART:20110723T080000Z
DTEND:20110723T120000Z
SUMMARY:Downhill Endurance Marathon
DESCRIPTION:Downhill Endurance Marathon - more details: https://www.moredirt.com/event/124
X-ALT-DESC;FMTTYPE=text/html:Downhill Endurance Marathon - more details: https://www.moredirt.com/event/124
LOCATION:
END:VEVENT
END:VCALENDAR