BEGIN:VCALENDAR
VERSION:2.0
PRODID:-//MoreDirt v1.0//EN
BEGIN:VEVENT
DTSTAMP:20150730T130000Z
ORGANIZER;CN=Stif Cycles:MAILTO:
STATUS:CONFIRMED
UID:MORESPORTSNETWORK1247
DTSTART:20150905T080000Z
DTEND:20150905T120000Z
SUMMARY:Stif Demo Day -  Stainburn
DESCRIPTION:Stif Demo Day -  Stainburn - more details: https://www.moredirt.com/event/1247
X-ALT-DESC;FMTTYPE=text/html:Stif Demo Day -  Stainburn - more details: https://www.moredirt.com/event/1247
LOCATION:
END:VEVENT
END:VCALENDAR