BEGIN:VCALENDAR
VERSION:2.0
PRODID:-//MoreDirt v1.0//EN
BEGIN:VEVENT
DTSTAMP:20150730T130000Z
ORGANIZER;CN=Mean & Dirty:MAILTO:
STATUS:CONFIRMED
UID:MORESPORTSNETWORK1246
DTSTART:20150913T080000Z
DTEND:20150913T120000Z
SUMMARY:MAD ORC 2015
DESCRIPTION:MAD ORC 2015 - more details: https://www.moredirt.com/event/1246
X-ALT-DESC;FMTTYPE=text/html:MAD ORC 2015 - more details: https://www.moredirt.com/event/1246
LOCATION:
END:VEVENT
END:VCALENDAR