BEGIN:VCALENDAR
VERSION:2.0
PRODID:-//MoreDirt v1.0//EN
BEGIN:VEVENT
DTSTAMP:20150730T130000Z
ORGANIZER;CN=Urban X:MAILTO:
STATUS:CONFIRMED
UID:MORESPORTSNETWORK1245
DTSTART:20151108T080000+0000
DTEND:20151108T120000+0000
SUMMARY:Urban X Mini DH - Remember The Troops III
DESCRIPTION:Urban X Mini DH - Remember The Troops III - more details: https://www.moredirt.com/event/1245
X-ALT-DESC;FMTTYPE=text/html:Urban X Mini DH - Remember The Troops III - more details: https://www.moredirt.com/event/1245
LOCATION:
END:VEVENT
END:VCALENDAR