BEGIN:VCALENDAR
VERSION:2.0
PRODID:-//MoreDirt v1.0//EN
BEGIN:VEVENT
DTSTAMP:20150730T130000Z
ORGANIZER;CN=Ian Kennett:MAILTO:
STATUS:CONFIRMED
UID:MORESPORTSNETWORK1244
DTSTART:20150906T080000Z
DTEND:20150906T120000Z
SUMMARY:Black Mountains MBO - Event 5 Trellech near Monmouth
DESCRIPTION:Black Mountains MBO - Event 5 Trellech near Monmouth - more details: https://www.moredirt.com/event/1244
X-ALT-DESC;FMTTYPE=text/html:Black Mountains MBO - Event 5 Trellech near Monmouth - more details: https://www.moredirt.com/event/1244
LOCATION:
END:VEVENT
END:VCALENDAR