BEGIN:VCALENDAR
VERSION:2.0
PRODID:-//MoreDirt v1.0//EN
BEGIN:VEVENT
DTSTAMP:20150730T130000Z
ORGANIZER;CN=G8 Events Ltd:MAILTO:
STATUS:CONFIRMED
UID:MORESPORTSNETWORK1240
DTSTART:20151213T080000+0000
DTEND:20151213T120000+0000
SUMMARY:G8 Winter MTB Series Round 3
DESCRIPTION:G8 Winter MTB Series Round 3 - more details: https://www.moredirt.com/event/1240
X-ALT-DESC;FMTTYPE=text/html:G8 Winter MTB Series Round 3 - more details: https://www.moredirt.com/event/1240
LOCATION:
END:VEVENT
END:VCALENDAR