BEGIN:VCALENDAR
VERSION:2.0
PRODID:-//MoreDirt v1.0//EN
BEGIN:VEVENT
DTSTAMP:20150730T130000Z
ORGANIZER;CN=Dept.26 Bude MTB Riders:MAILTO:
STATUS:CONFIRMED
UID:MORESPORTSNETWORK1237
DTSTART:20150919T080000Z
DTEND:20150919T120000Z
SUMMARY:Dept 26 Enduro 2015
DESCRIPTION:Dept 26 Enduro 2015 - more details: https://www.moredirt.com/event/1237
X-ALT-DESC;FMTTYPE=text/html:Dept 26 Enduro 2015 - more details: https://www.moredirt.com/event/1237
LOCATION:
END:VEVENT
END:VCALENDAR