BEGIN:VCALENDAR
VERSION:2.0
PRODID:-//MoreDirt v1.0//EN
BEGIN:VEVENT
DTSTAMP:20150730T130000Z
ORGANIZER;CN=Fully Sussed:MAILTO:
STATUS:CONFIRMED
UID:MORESPORTSNETWORK1224
DTSTART:20160320T080000+0000
DTEND:20160320T120000+0000
SUMMARY:Soggy Bottom XC Series 2016 R3
DESCRIPTION:Soggy Bottom XC Series 2016 R3 - more details: https://www.moredirt.com/event/1224
X-ALT-DESC;FMTTYPE=text/html:Soggy Bottom XC Series 2016 R3 - more details: https://www.moredirt.com/event/1224
LOCATION:
END:VEVENT
END:VCALENDAR