BEGIN:VCALENDAR
VERSION:2.0
PRODID:-//MoreDirt v1.0//EN
BEGIN:VEVENT
DTSTAMP:20150730T130000Z
ORGANIZER;CN=Active Adventures SW & Discover Moor:MAILTO:
STATUS:CONFIRMED
UID:MORESPORTSNETWORK1220
DTSTART:20150906T080000Z
DTEND:20150906T120000Z
SUMMARY:The Quantock Quake 2015
DESCRIPTION:The Quantock Quake 2015 - more details: https://www.moredirt.com/event/1220
X-ALT-DESC;FMTTYPE=text/html:The Quantock Quake 2015 - more details: https://www.moredirt.com/event/1220
LOCATION:
END:VEVENT
END:VCALENDAR