BEGIN:VCALENDAR
VERSION:2.0
PRODID:-//MoreDirt v1.0//EN
BEGIN:VEVENT
DTSTAMP:20150730T130000Z
ORGANIZER;CN=Sion James:MAILTO:
STATUS:CONFIRMED
UID:MORESPORTSNETWORK1217
DTSTART:20150607T080000Z
DTEND:20150607T120000Z
SUMMARY:Black Mountains MBO - Event 3
DESCRIPTION:Black Mountains MBO - Event 3 - more details: https://www.moredirt.com/event/1217
X-ALT-DESC;FMTTYPE=text/html:Black Mountains MBO - Event 3 - more details: https://www.moredirt.com/event/1217
LOCATION:
END:VEVENT
END:VCALENDAR