BEGIN:VCALENDAR
VERSION:2.0
PRODID:-//MoreDirt v1.0//EN
BEGIN:VEVENT
DTSTAMP:20150730T130000Z
ORGANIZER;CN=Nutcracker Altura MTB Racing:MAILTO:
STATUS:CONFIRMED
UID:MORESPORTSNETWORK1215
DTSTART:20150823T080000Z
DTEND:20150823T120000Z
SUMMARY:Nutcracker Altura XC Series - Round 5
DESCRIPTION:Nutcracker Altura XC Series - Round 5 - more details: https://www.moredirt.com/event/1215
X-ALT-DESC;FMTTYPE=text/html:Nutcracker Altura XC Series - Round 5 - more details: https://www.moredirt.com/event/1215
LOCATION:
END:VEVENT
END:VCALENDAR