BEGIN:VCALENDAR
VERSION:2.0
PRODID:-//MoreDirt v1.0//EN
BEGIN:VEVENT
DTSTAMP:20150730T130000Z
ORGANIZER;CN=Marin Bikes:MAILTO:
STATUS:CONFIRMED
UID:MORESPORTSNETWORK1206
DTSTART:20150905T080000Z
DTEND:20150906T120000Z
SUMMARY:Marin Demo Tour - Sherwood Pines
DESCRIPTION:Marin Demo Tour - Sherwood Pines - more details: https://www.moredirt.com/event/1206
X-ALT-DESC;FMTTYPE=text/html:Marin Demo Tour - Sherwood Pines - more details: https://www.moredirt.com/event/1206
LOCATION:
END:VEVENT
END:VCALENDAR