BEGIN:VCALENDAR
VERSION:2.0
PRODID:-//MoreDirt v1.0//EN
BEGIN:VEVENT
DTSTAMP:20150730T130000Z
ORGANIZER;CN=Marin Bikes:MAILTO:
STATUS:CONFIRMED
UID:MORESPORTSNETWORK1203
DTSTART:20150704T080000Z
DTEND:20150705T120000Z
SUMMARY:Marin Demo Tour - Ashton Court
DESCRIPTION:Marin Demo Tour - Ashton Court - more details: https://www.moredirt.com/event/1203
X-ALT-DESC;FMTTYPE=text/html:Marin Demo Tour - Ashton Court - more details: https://www.moredirt.com/event/1203
LOCATION:
END:VEVENT
END:VCALENDAR