BEGIN:VCALENDAR
VERSION:2.0
PRODID:-//MoreDirt v1.0//EN
BEGIN:VEVENT
DTSTAMP:20150730T130000Z
ORGANIZER;CN=Trek Bikes:MAILTO:
STATUS:CONFIRMED
UID:MORESPORTSNETWORK1202
DTSTART:20150606T080000Z
DTEND:20150606T120000Z
SUMMARY:Trek Demo Day
DESCRIPTION:Trek Demo Day - more details: https://www.moredirt.com/event/1202
X-ALT-DESC;FMTTYPE=text/html:Trek Demo Day - more details: https://www.moredirt.com/event/1202
LOCATION:
END:VEVENT
END:VCALENDAR