BEGIN:VCALENDAR
VERSION:2.0
PRODID:-//MoreDirt v1.0//EN
BEGIN:VEVENT
DTSTAMP:20150730T130000Z
ORGANIZER;CN=No Fuss Events:MAILTO:
STATUS:CONFIRMED
UID:MORESPORTSNETWORK1201
DTSTART:20151010T080000Z
DTEND:20151011T120000Z
SUMMARY:Dunoon Camp Enduro
DESCRIPTION:Dunoon Camp Enduro - more details: https://www.moredirt.com/event/1201
X-ALT-DESC;FMTTYPE=text/html:Dunoon Camp Enduro - more details: https://www.moredirt.com/event/1201
LOCATION:
END:VEVENT
END:VCALENDAR