BEGIN:VCALENDAR
VERSION:2.0
PRODID:-//MoreDirt v1.0//EN
BEGIN:VEVENT
DTSTAMP:20150730T130000Z
ORGANIZER;CN=East Tyrone Cycling Club:MAILTO:
STATUS:CONFIRMED
UID:MORESPORTSNETWORK1193
DTSTART:20150519T080000Z
DTEND:20150519T120000Z
SUMMARY:ETCC Mini Enduro Series - RD1
DESCRIPTION:ETCC Mini Enduro Series - RD1 - more details: https://www.moredirt.com/event/1193
X-ALT-DESC;FMTTYPE=text/html:ETCC Mini Enduro Series - RD1 - more details: https://www.moredirt.com/event/1193
LOCATION:
END:VEVENT
END:VCALENDAR