BEGIN:VCALENDAR
VERSION:2.0
PRODID:-//MoreDirt v1.0//EN
BEGIN:VEVENT
DTSTAMP:20150730T130000Z
ORGANIZER;CN=Ibis Cycles UK:MAILTO:
STATUS:CONFIRMED
UID:MORESPORTSNETWORK1190
DTSTART:20150912T080000Z
DTEND:20150912T120000Z
SUMMARY:Ibis UK Demo Tour 2015 - Demo 10
DESCRIPTION:Ibis UK Demo Tour 2015 - Demo 10 - more details: https://www.moredirt.com/event/1190
X-ALT-DESC;FMTTYPE=text/html:Ibis UK Demo Tour 2015 - Demo 10 - more details: https://www.moredirt.com/event/1190
LOCATION:
END:VEVENT
END:VCALENDAR