BEGIN:VCALENDAR
VERSION:2.0
PRODID:-//MoreDirt v1.0//EN
BEGIN:VEVENT
DTSTAMP:20150730T130000Z
ORGANIZER;CN=Ibis Cycles UK:MAILTO:
STATUS:CONFIRMED
UID:MORESPORTSNETWORK1189
DTSTART:20150815T080000Z
DTEND:20150815T120000Z
SUMMARY:Ibis UK Demo Tour 2015 - Demo 9
DESCRIPTION:Ibis UK Demo Tour 2015 - Demo 9 - more details: https://www.moredirt.com/event/1189
X-ALT-DESC;FMTTYPE=text/html:Ibis UK Demo Tour 2015 - Demo 9 - more details: https://www.moredirt.com/event/1189
LOCATION:
END:VEVENT
END:VCALENDAR