BEGIN:VCALENDAR
VERSION:2.0
PRODID:-//MoreDirt v1.0//EN
BEGIN:VEVENT
DTSTAMP:20150730T130000Z
ORGANIZER;CN=Muckmedden Events:MAILTO:
STATUS:CONFIRMED
UID:MORESPORTSNETWORK1182
DTSTART:20150725T080000Z
DTEND:20150726T120000Z
SUMMARY:The Eliminator
DESCRIPTION:The Eliminator - more details: https://www.moredirt.com/event/1182
X-ALT-DESC;FMTTYPE=text/html:The Eliminator - more details: https://www.moredirt.com/event/1182
LOCATION:
END:VEVENT
END:VCALENDAR