BEGIN:VCALENDAR
VERSION:2.0
PRODID:-//MoreDirt v1.0//EN
BEGIN:VEVENT
DTSTAMP:20150730T130000Z
ORGANIZER;CN=Muckmedden Events:MAILTO:
STATUS:CONFIRMED
UID:MORESPORTSNETWORK1180
DTSTART:20150926T080000Z
DTEND:20150926T120000Z
SUMMARY:Forfar Funduro 2015
DESCRIPTION:Forfar Funduro 2015 - more details: https://www.moredirt.com/event/1180
X-ALT-DESC;FMTTYPE=text/html:Forfar Funduro 2015 - more details: https://www.moredirt.com/event/1180
LOCATION:
END:VEVENT
END:VCALENDAR