BEGIN:VCALENDAR
VERSION:2.0
PRODID:-//MoreDirt v1.0//EN
BEGIN:VEVENT
DTSTAMP:20150730T130000Z
ORGANIZER;CN=Borderline Events:MAILTO:
STATUS:CONFIRMED
UID:MORESPORTSNETWORK1176
DTSTART:20150718T080000Z
DTEND:20150719T120000Z
SUMMARY:British Cycling National Championships 2015
DESCRIPTION:British Cycling National Championships 2015 - more details: https://www.moredirt.com/event/1176
X-ALT-DESC;FMTTYPE=text/html:British Cycling National Championships 2015 - more details: https://www.moredirt.com/event/1176
LOCATION:
END:VEVENT
END:VCALENDAR