BEGIN:VCALENDAR
VERSION:2.0
PRODID:-//MoreDirt v1.0//EN
BEGIN:VEVENT
DTSTAMP:20150730T130000Z
ORGANIZER;CN=Borderline Events:MAILTO:
STATUS:CONFIRMED
UID:MORESPORTSNETWORK1175
DTSTART:20151025T080000+0000
DTEND:20151025T120000+0000
SUMMARY:Farmer Johns Champs
DESCRIPTION:Farmer Johns Champs - more details: https://www.moredirt.com/event/1175
X-ALT-DESC;FMTTYPE=text/html:Farmer Johns Champs - more details: https://www.moredirt.com/event/1175
LOCATION:
END:VEVENT
END:VCALENDAR