BEGIN:VCALENDAR
VERSION:2.0
PRODID:-//MoreDirt v1.0//EN
BEGIN:VEVENT
DTSTAMP:20150730T130000Z
ORGANIZER;CN=Mr Trevor Williams:MAILTO:
STATUS:CONFIRMED
UID:MORESPORTSNETWORK1174
DTSTART:20150913T080000Z
DTEND:20150913T120000Z
SUMMARY:Borders Mini Downhill Series Round 6
DESCRIPTION:Borders Mini Downhill Series Round 6 - more details: https://www.moredirt.com/event/1174
X-ALT-DESC;FMTTYPE=text/html:Borders Mini Downhill Series Round 6 - more details: https://www.moredirt.com/event/1174
LOCATION:
END:VEVENT
END:VCALENDAR