BEGIN:VCALENDAR
VERSION:2.0
PRODID:-//MoreDirt v1.0//EN
BEGIN:VEVENT
DTSTAMP:20150730T130000Z
ORGANIZER;CN=Bell Helmets:MAILTO:
STATUS:CONFIRMED
UID:MORESPORTSNETWORK1171
DTSTART:20150712T080000Z
DTEND:20150712T120000Z
SUMMARY:Bell Ride Free - Forest of Dean
DESCRIPTION:Bell Ride Free - Forest of Dean - more details: https://www.moredirt.com/event/1171
X-ALT-DESC;FMTTYPE=text/html:Bell Ride Free - Forest of Dean - more details: https://www.moredirt.com/event/1171
LOCATION:
END:VEVENT
END:VCALENDAR